BEGIN:VCALENDAR
VERSION:2.0
PRODID:-//Park and Recreation - Prince Georges County MD - ECPv6.15.18//NONSGML v1.0//EN
CALSCALE:GREGORIAN
METHOD:PUBLISH
X-WR-CALNAME:Park and Recreation - Prince Georges County MD
X-ORIGINAL-URL:https://pgparks.com
X-WR-CALDESC:Events for Park and Recreation - Prince Georges County MD
REFRESH-INTERVAL;VALUE=DURATION:PT1H
X-Robots-Tag:noindex
X-PUBLISHED-TTL:PT1H
BEGIN:VTIMEZONE
TZID:America/New_York
BEGIN:DAYLIGHT
TZOFFSETFROM:-0500
TZOFFSETTO:-0400
TZNAME:EDT
DTSTART:20240310T070000
END:DAYLIGHT
BEGIN:STANDARD
TZOFFSETFROM:-0400
TZOFFSETTO:-0500
TZNAME:EST
DTSTART:20241103T060000
END:STANDARD
BEGIN:DAYLIGHT
TZOFFSETFROM:-0500
TZOFFSETTO:-0400
TZNAME:EDT
DTSTART:20250309T070000
END:DAYLIGHT
BEGIN:STANDARD
TZOFFSETFROM:-0400
TZOFFSETTO:-0500
TZNAME:EST
DTSTART:20251102T060000
END:STANDARD
BEGIN:DAYLIGHT
TZOFFSETFROM:-0500
TZOFFSETTO:-0400
TZNAME:EDT
DTSTART:20260308T070000
END:DAYLIGHT
BEGIN:STANDARD
TZOFFSETFROM:-0400
TZOFFSETTO:-0500
TZNAME:EST
DTSTART:20261101T060000
END:STANDARD
BEGIN:DAYLIGHT
TZOFFSETFROM:-0500
TZOFFSETTO:-0400
TZNAME:EDT
DTSTART:20270314T070000
END:DAYLIGHT
BEGIN:STANDARD
TZOFFSETFROM:-0400
TZOFFSETTO:-0500
TZNAME:EST
DTSTART:20271107T060000
END:STANDARD
END:VTIMEZONE
BEGIN:VEVENT
DTSTART;TZID=America/New_York:20251206T180000
DTEND;TZID=America/New_York:20251206T210000
DTSTAMP:20260421T202913
CREATED:20251111T222627Z
LAST-MODIFIED:20251118T191018Z
UID:10000073-1765044000-1765054800@pgparks.com
SUMMARY:Disability Services presents: Holiday Hop
DESCRIPTION:The Holiday Hop is a holiday tradition with music\, dance and festive spirit. This program is designed specifically for persons with disabilities who reside in Prince George’s County. This annual holiday event is returning with toe-tapping music\, a photo booth\, door prizes and refreshments. Come showcase your moves and dance the night away. \n\n\n\nThis event is designed for individuals with disabilities who reside in Prince George’s County. M-NCPPC employees will chaperone the event; direct support or assistance will not be provided. Seating will be available for companions and family members who wish to stay at the event.  \n\n\n\nRegistration is required in advance; no tickets will be sold at the door. Dress code is semi-formal attire. \n\n\n\nEvent contact: 301-446-3400\, countywidetrprograms@pgparks.com \n\n\n\n\nRegister for the event
URL:https://pgparks.com/event_list/disability-services-presents-holiday-hop
CATEGORIES:Disability Services,Holidays & Celebrations,Special Event,Special Events
ATTACH;FMTTYPE=image/gif:https://pgparks.com/wp-content/uploads/2024/11/HolidayHop21-055.gif
END:VEVENT
BEGIN:VEVENT
DTSTART;TZID=America/New_York:20251213T110000
DTEND;TZID=America/New_York:20251213T130000
DTSTAMP:20260421T202913
CREATED:20251111T222704Z
LAST-MODIFIED:20251204T181134Z
UID:10000189-1765623600-1765630800@pgparks.com
SUMMARY:P.L.A.Y. Santa's Workshop
DESCRIPTION:Visit Santa’s Workshop to see elves making toys\, meet Santa\, enjoy festive treats\, and join in fun activities. Dress in your holiday best with your family! \n\n\n\nLet’s P.L.A.Y. Together! Promoting Leisure Activities for Youth was developed by Prince George’s County Parks and Recreation for residents ages 6-12 years old with disabilities. The staff ratio is 1:4.  \n\n\n\nJoin us for a series of bi-monthly inclusive events designed to promote play\, creativity\, and socialization among youth. These events will provide a safe and welcoming environment where kids can engage in fun activities\, make new friends\, and build confidence. No direct supervision will be provided. \n\n\n\nRegister for this Event
URL:https://pgparks.com/event_list/p-l-a-y-santas-workshop
CATEGORIES:Disability Services,Holidays & Celebrations,Special Event,Special Events,Youth
ATTACH;FMTTYPE=image/jpeg:https://pgparks.com/wp-content/uploads/2025/11/SantasWorkshop24-02.jpg
END:VEVENT
BEGIN:VEVENT
DTSTART;TZID=America/New_York:20260123T183000
DTEND;TZID=America/New_York:20260123T204500
DTSTAMP:20260421T202913
CREATED:20251204T181737Z
LAST-MODIFIED:20251209T191842Z
UID:10000587-1769193000-1769201100@pgparks.com
SUMMARY:Therapeutic Recreation Presents: Parents' Night Out
DESCRIPTION:We’re excited to invite you to Parents’ Night Out! This program provides a safe\, inclusive\, fun\, and engaging environment for children while allowing parents to enjoy a well-deserved break. Parents will have the opportunity to drop off their kids and enjoy an evening off.Register and leave your kids with us for a fun-filled evening\, activities include a movie\, popcorn\, pizza\, and fun! The ratio for this program is 1:4. This program is inclusive and designed for residents with disabilities and their siblings. \n\n\n\n \n\n\n\n$20 per child\, plus $15 per additional sibling \n\n\n\n\n\n\n\nRegister for this Event
URL:https://pgparks.com/event_list/disability-services-presents-parents-night-out
LOCATION:Lake Arbor Community Center\, 10100 Lake Arbor Way\, Bowie\, MD\, 20721\, United States
CATEGORIES:Disability Services
ATTACH;FMTTYPE=image/jpeg:https://pgparks.com/wp-content/uploads/2025/12/Teen-Performance-Ensemble-Anansi-the-Spider-e1764872426383.jpg
END:VEVENT
BEGIN:VEVENT
DTSTART;TZID=America/New_York:20260124T143000
DTEND;TZID=America/New_York:20260124T163000
DTSTAMP:20260421T202913
CREATED:20251216T195926Z
LAST-MODIFIED:20251222T195930Z
UID:10000876-1769265000-1769272200@pgparks.com
SUMMARY:Adaptive Tennis Try-It Clinic
DESCRIPTION:Join us for a fun and inclusive day on the courts! We welcome the whole family-as well as all ability and experience levels-to discover the joy of tennis. This event is designed for people with disabilities in partnership with the Junior Tennis Champions Center (JTCC). \n\n\n\nEnjoy adaptive games\, beginner-friendly instruction\, and a supportive community atmosphere as we introduce tennis to everyone—no experience or equipment required! \n\n\n\n \n\n\n\nRegister for this Program
URL:https://pgparks.com/event_list/adaptive-tennis-try-it-clinic
LOCATION:Junior Tennis Champions Center\, 5200 Campus Dr\, College Park\, MD\, 20740\, United States
CATEGORIES:Disability Services,Sports,Youth
ATTACH;FMTTYPE=image/gif:https://pgparks.com/wp-content/uploads/2025/12/adaptive-tennis-picture-2.gif
END:VEVENT
BEGIN:VEVENT
DTSTART;TZID=America/New_York:20260411T180000
DTEND;TZID=America/New_York:20260411T210000
DTSTAMP:20260421T202913
CREATED:20260211T153900Z
LAST-MODIFIED:20260327T141716Z
UID:10001223-1775930400-1775941200@pgparks.com
SUMMARY:Annual Spring Fling Dance: Tropical Paradise
DESCRIPTION:The Annual Spring Fling is an event with music\, dancing\, and fun! Dress is semi-formal attire. Light refreshments and door prizes will be provided. Registration is required in advance. \n\n\n\nThis annual holiday event is returning with toe-tapping music\, a photo booth\, door prizes\, and refreshments. Showcase your moves and dance the night away at our Tropical Paradise celebration. The event is designed for Prince George’s residents with disabilities. M-NCPPC employees will chaperone the event; limited seating will be available for companions and families. \n\n\n\nAdvanced registration is required\, and tickets will not be sold at the door. Registration is required solely for the participant and not companions. Online registration closes April 8\, 2026. \n\n\n\nPlease contact: CountywideTRPrograms@pgparks.com for more information or questions. \n\n\n\n \n\n\n\nRegister for this Event
URL:https://pgparks.com/event_list/annual-spring-fling-dance-the-nutcracker
CATEGORIES:Disability Services,Special Event,Special Events
ATTACH;FMTTYPE=image/gif:https://pgparks.com/wp-content/uploads/2026/02/Spring-Fling-participants-2023.gif
END:VEVENT
BEGIN:VEVENT
DTSTART;TZID=America/New_York:20260412T090000
DTEND;TZID=America/New_York:20260412T103000
DTSTAMP:20260421T202913
CREATED:20260327T132613Z
LAST-MODIFIED:20260327T132624Z
UID:10003176-1775984400-1775989800@pgparks.com
SUMMARY:Sensory-Friendly Days in Nature
DESCRIPTION:Beat the crowd and visit the Nature Center off-hours for a special self-paced program for those with sensory processing differences. Each sensory-friendly day will feature a “touch table” of animal artifacts\, access to sensory play bins and fidget toys\, and a fun\, easy craft.
URL:https://pgparks.com/event_list/sensory-friendly-days-in-nature
CATEGORIES:Disability Services,Nature & Outdoor,Teens,Youth
ATTACH;FMTTYPE=image/jpeg:https://pgparks.com/wp-content/uploads/2026/03/ClearWaterOpenHouse23-18.jpg
END:VEVENT
BEGIN:VEVENT
DTSTART;TZID=America/New_York:20260417T183000
DTEND;TZID=America/New_York:20260417T204500
DTSTAMP:20260421T202913
CREATED:20260326T161041Z
LAST-MODIFIED:20260327T142042Z
UID:10003169-1776450600-1776458700@pgparks.com
SUMMARY:Therapeutic Recreation: Parents' Night Out
DESCRIPTION:We’re excited to invite you to our Parents’ Night Out! Register and leave your kids with us for a fun-filled evening while you enjoy a well-deserved break! Activities include a movie\, popcorn\, pizza and fun! The ratio for this program is 1:4. \n\n\n\nThis program is inclusive and designed for Prince George’s County residents with disabilities and their siblings.
URL:https://pgparks.com/event_list/therapeutic-recreation-parents-night-out
CATEGORIES:Disability Services,Youth
ATTACH;FMTTYPE=image/jpeg:https://pgparks.com/wp-content/uploads/2025/12/Teen-Performance-Ensemble-Anansi-the-Spider-e1764872426383.jpg
END:VEVENT
BEGIN:VEVENT
DTSTART;TZID=America/New_York:20260418T193000
DTEND;TZID=America/New_York:20260418T210000
DTSTAMP:20260421T202913
CREATED:20260211T161803Z
LAST-MODIFIED:20260408T193455Z
UID:10001230-1776540600-1776546000@pgparks.com
SUMMARY:5K Glow Walk/Run for Autism Acceptance
DESCRIPTION:Come dressed in your best glow gear for the 2026 Glow Walk/Run\, 5k or 1-mile Fun Run. Raise awareness and acceptance for Autism. Proceeds benefit the YouFit Scholarship Fund\, helping send children and youth with disabilities ages 6-21 to M-NCPPC summer camps. This Inclusive fun-walk/run is designed for community members of all abilities and is not a timed race. The event is sensory-friendly and fully accessible. \n\n\n\nPaid registration includes a t-shirt\, glow gear\, and post-race refreshments. Register by Friday\, March 20\, to be guaranteed your requested shirt size. This is a rain-or-shine event. \n\n\n\n\n\nRegister for Glow Walk\n\n\n\n\n\nDonate to the YouFit Scholarship Fund\n\n\n\n\n\n\n\n\n\nSponsorships\n\n\n\nThis event offers businesses an opportunity to connect with the disability community\, their families\, and a nationally acclaimed parks and recreation agency. As a sponsor\, you can expand your client base to a diverse population of over 967\,000 residents of Prince George’s County and beyond. \n\n\n\nTake advantage of this chance to improve your brand awareness and positively impact Prince George’s County and the disability community. Learn more about the sponsorship on our Donor Portal.  \n\n\n\n\n\n\n\nBecome a Sponsor\n\n\n\n\n\n\n\nQuestions? Email CoreyH.Smith@pgparks.com or call 301-446-3465. \n\n\n\n\n\n\n\nThank you to our Sponsors
URL:https://pgparks.com/event_list/5k-glow-walk-run-for-autism-acceptance
CATEGORIES:All Ages,Disability Services,Walks/Runs
ATTACH;FMTTYPE=image/jpeg:https://pgparks.com/wp-content/uploads/2026/02/Glow-Walk-2025-participants-smiling.jpg
END:VEVENT
BEGIN:VEVENT
DTSTART;TZID=America/New_York:20260502T090000
DTEND;TZID=America/New_York:20260502T103000
DTSTAMP:20260421T202913
CREATED:20260401T135643Z
LAST-MODIFIED:20260401T135654Z
UID:10003263-1777712400-1777717800@pgparks.com
SUMMARY:Sensory-Friendly Days in Nature
DESCRIPTION:Beat the crowd and visit the Nature Center off-hours for a special self-paced program for those with sensory processing differences. Each sensory-friendly day will feature a “touch table” of animal artifacts\, access to sensory play bins and fidget toys\, and a fun\, easy craft.
URL:https://pgparks.com/event_list/sensory-friendly-days-in-nature-2
CATEGORIES:Disability Services,Nature & Outdoor,Teens,Youth
ATTACH;FMTTYPE=image/gif:https://pgparks.com/wp-content/uploads/2023/02/fish-pond-clearwater.gif
END:VEVENT
END:VCALENDAR