BEGIN:VCALENDAR
VERSION:2.0
PRODID:-//Park and Recreation - Prince Georges County MD - ECPv6.15.18//NONSGML v1.0//EN
CALSCALE:GREGORIAN
METHOD:PUBLISH
X-WR-CALNAME:Park and Recreation - Prince Georges County MD
X-ORIGINAL-URL:https://pgparks.com
X-WR-CALDESC:Events for Park and Recreation - Prince Georges County MD
REFRESH-INTERVAL;VALUE=DURATION:PT1H
X-Robots-Tag:noindex
X-PUBLISHED-TTL:PT1H
BEGIN:VTIMEZONE
TZID:America/New_York
BEGIN:DAYLIGHT
TZOFFSETFROM:-0500
TZOFFSETTO:-0400
TZNAME:EDT
DTSTART:20250309T070000
END:DAYLIGHT
BEGIN:STANDARD
TZOFFSETFROM:-0400
TZOFFSETTO:-0500
TZNAME:EST
DTSTART:20251102T060000
END:STANDARD
BEGIN:DAYLIGHT
TZOFFSETFROM:-0500
TZOFFSETTO:-0400
TZNAME:EDT
DTSTART:20260308T070000
END:DAYLIGHT
BEGIN:STANDARD
TZOFFSETFROM:-0400
TZOFFSETTO:-0500
TZNAME:EST
DTSTART:20261101T060000
END:STANDARD
BEGIN:DAYLIGHT
TZOFFSETFROM:-0500
TZOFFSETTO:-0400
TZNAME:EDT
DTSTART:20270314T070000
END:DAYLIGHT
BEGIN:STANDARD
TZOFFSETFROM:-0400
TZOFFSETTO:-0500
TZNAME:EST
DTSTART:20271107T060000
END:STANDARD
END:VTIMEZONE
BEGIN:VEVENT
DTSTART;TZID=America/New_York:20260502T090000
DTEND;TZID=America/New_York:20260502T103000
DTSTAMP:20260421T085750
CREATED:20260401T135643Z
LAST-MODIFIED:20260401T135654Z
UID:10003263-1777712400-1777717800@pgparks.com
SUMMARY:Sensory-Friendly Days in Nature
DESCRIPTION:Beat the crowd and visit the Nature Center off-hours for a special self-paced program for those with sensory processing differences. Each sensory-friendly day will feature a “touch table” of animal artifacts\, access to sensory play bins and fidget toys\, and a fun\, easy craft.
URL:https://pgparks.com/event_list/sensory-friendly-days-in-nature-2
CATEGORIES:Disability Services,Nature & Outdoor,Teens,Youth
ATTACH;FMTTYPE=image/gif:https://pgparks.com/wp-content/uploads/2023/02/fish-pond-clearwater.gif
END:VEVENT
END:VCALENDAR